Package: cosmiq Version: 1.26.0 Command: rm -rf cosmiq.buildbin-libdir && mkdir cosmiq.buildbin-libdir && /Users/biocbuild/BBS/utils/build-universal.sh cosmiq_1.26.0.tar.gz /Library/Frameworks/R.framework/Versions/Current/Resources/bin/R cosmiq.buildbin-libdir StartedAt: 2021-10-15 02:03:49 -0400 (Fri, 15 Oct 2021) EndedAt: 2021-10-15 02:04:54 -0400 (Fri, 15 Oct 2021) EllapsedTime: 64.7 seconds RetCode: 0 Status: OK PackageFile: cosmiq_1.26.0.tgz PackageFileSize: 282.5 KiB