Package: cosmiq Version: 1.26.0 Command: /home/biocbuild/bbs-3.13-bioc/R/bin/R CMD build --keep-empty-dirs --no-resave-data cosmiq StartedAt: 2021-10-14 07:02:28 -0400 (Thu, 14 Oct 2021) EndedAt: 2021-10-14 07:04:23 -0400 (Thu, 14 Oct 2021) EllapsedTime: 115.0 seconds RetCode: 0 Status: OK PackageFile: cosmiq_1.26.0.tar.gz PackageFileSize: 534.7 KiB