Package: cosmosR Version: 1.0.1 Command: rm -rf cosmosR.buildbin-libdir && mkdir cosmosR.buildbin-libdir && /Users/biocbuild/BBS/utils/build-universal.sh cosmosR_1.0.1.tar.gz /Library/Frameworks/R.framework/Versions/Current/Resources/bin/R cosmosR.buildbin-libdir StartedAt: 2021-10-15 02:03:56 -0400 (Fri, 15 Oct 2021) EndedAt: 2021-10-15 02:04:59 -0400 (Fri, 15 Oct 2021) EllapsedTime: 63.7 seconds RetCode: 0 Status: OK PackageFile: cosmosR_1.0.1.tgz PackageFileSize: 2.83 MiB