Package: cosmosR Version: 1.0.1 Command: /Library/Frameworks/R.framework/Versions/Current/Resources/bin/R CMD build --keep-empty-dirs --no-resave-data cosmosR StartedAt: 2021-10-14 11:28:29 -0400 (Thu, 14 Oct 2021) EndedAt: 2021-10-14 11:29:00 -0400 (Thu, 14 Oct 2021) EllapsedTime: 30.6 seconds RetCode: 0 Status: OK PackageFile: cosmosR_1.0.1.tar.gz PackageFileSize: 2.754 MiB