Package: cosmosR Version: 1.0.1 Command: /home/biocbuild/bbs-3.13-bioc/R/bin/R CMD build --keep-empty-dirs --no-resave-data cosmosR StartedAt: 2021-10-14 07:02:31 -0400 (Thu, 14 Oct 2021) EndedAt: 2021-10-14 07:02:46 -0400 (Thu, 14 Oct 2021) EllapsedTime: 15.1 seconds RetCode: 0 Status: OK PackageFile: cosmosR_1.0.1.tar.gz PackageFileSize: 2.754 MiB