Package: crisprseekplus Version: 1.18.0 Command: /Library/Frameworks/R.framework/Versions/Current/Resources/bin/R CMD build --keep-empty-dirs --no-resave-data crisprseekplus StartedAt: 2021-10-14 11:29:35 -0400 (Thu, 14 Oct 2021) EndedAt: 2021-10-14 11:30:34 -0400 (Thu, 14 Oct 2021) EllapsedTime: 59.2 seconds RetCode: 0 Status: OK PackageFile: crisprseekplus_1.18.0.tar.gz PackageFileSize: 320.3 KiB