Package: crisprseekplus Version: 1.18.0 Command: /Library/Frameworks/R.framework/Versions/Current/Resources/bin/R CMD check --install=check:crisprseekplus.install-out.txt --library=/Library/Frameworks/R.framework/Versions/Current/Resources/library --no-vignettes --timings crisprseekplus_1.18.0.tar.gz StartedAt: 2021-10-14 17:53:21 -0400 (Thu, 14 Oct 2021) EndedAt: 2021-10-14 17:59:47 -0400 (Thu, 14 Oct 2021) EllapsedTime: 386.7 seconds RetCode: 0 Status: OK CheckDir: crisprseekplus.Rcheck Warnings: 0