Package: crlmm Version: 1.50.0 Command: /Library/Frameworks/R.framework/Versions/Current/Resources/bin/R CMD INSTALL crlmm StartedAt: 2021-10-14 09:29:59 -0400 (Thu, 14 Oct 2021) EndedAt: 2021-10-14 09:30:53 -0400 (Thu, 14 Oct 2021) EllapsedTime: 54.6 seconds RetCode: 0 Status: OK