Package: crlmm Version: 1.50.0 Command: rm -rf crlmm.buildbin-libdir && mkdir crlmm.buildbin-libdir && C:\Users\biocbuild\bbs-3.13-bioc\R\bin\R.exe CMD INSTALL --merge-multiarch --build --library=crlmm.buildbin-libdir crlmm_1.50.0.tar.gz StartedAt: 2021-10-15 08:47:27 -0400 (Fri, 15 Oct 2021) EndedAt: 2021-10-15 08:49:01 -0400 (Fri, 15 Oct 2021) EllapsedTime: 94.0 seconds RetCode: 0 Status: OK PackageFile: crlmm_1.50.0.zip PackageFileSize: 5.267 MiB