Package: crlmm Version: 1.50.0 Command: chmod a+r crlmm -R && C:\Users\biocbuild\bbs-3.13-bioc\R\bin\R.exe CMD build --keep-empty-dirs --no-resave-data crlmm StartedAt: 2021-10-14 13:07:26 -0400 (Thu, 14 Oct 2021) EndedAt: 2021-10-14 13:09:59 -0400 (Thu, 14 Oct 2021) EllapsedTime: 152.6 seconds RetCode: 0 Status: OK PackageFile: crlmm_1.50.0.tar.gz PackageFileSize: 4.192 MiB