git_url: https://git.bioconductor.org/packages/csaw git_branch: RELEASE_3_13 git_last_commit: d3850f3 git_last_commit_date: 2021-05-19 12:08:51 -0400 (Wed, 19 May 2021) Package: csaw Version: 1.26.0 Maintainer: Aaron Lun MaintainerEmail: infinite.monkeys.with.keyboards at gmail.com