Package: csaw Version: 1.26.0 Command: rm -rf csaw.buildbin-libdir && mkdir csaw.buildbin-libdir && /Users/biocbuild/BBS/utils/build-universal.sh csaw_1.26.0.tar.gz /Library/Frameworks/R.framework/Versions/Current/Resources/bin/R csaw.buildbin-libdir StartedAt: 2021-10-15 02:05:15 -0400 (Fri, 15 Oct 2021) EndedAt: 2021-10-15 02:07:29 -0400 (Fri, 15 Oct 2021) EllapsedTime: 133.6 seconds RetCode: 0 Status: OK PackageFile: csaw_1.26.0.tgz PackageFileSize: 1.075 MiB