Package: ctgGEM Version: 1.4.0 Command: C:\cygwin\bin\curl.exe -O http://155.52.207.165/BBS/3.13/bioc/src/contrib/ctgGEM_1.4.0.tar.gz && rm -rf ctgGEM.buildbin-libdir && mkdir ctgGEM.buildbin-libdir && C:\Users\biocbuild\bbs-3.13-bioc\R\bin\R.exe CMD INSTALL --merge-multiarch --build --library=ctgGEM.buildbin-libdir ctgGEM_1.4.0.tar.gz && C:\Users\biocbuild\bbs-3.13-bioc\R\bin\R.exe CMD INSTALL ctgGEM_1.4.0.zip && rm ctgGEM_1.4.0.tar.gz ctgGEM_1.4.0.zip StartedAt: 2021-10-14 09:54:16 -0400 (Thu, 14 Oct 2021) EndedAt: 2021-10-14 09:55:05 -0400 (Thu, 14 Oct 2021) EllapsedTime: 48.5 seconds RetCode: 0 Status: OK