git_url: https://git.bioconductor.org/packages/cummeRbund git_branch: RELEASE_3_13 git_last_commit: e2ae106 git_last_commit_date: 2021-05-19 11:50:10 -0400 (Wed, 19 May 2021) Package: cummeRbund Version: 2.34.0 Maintainer: Loyal A. Goff MaintainerEmail: lgoff at csail.mit.edu