Package: cummeRbund Version: 2.34.0 Command: /Library/Frameworks/R.framework/Versions/Current/Resources/bin/R CMD check --install=check:cummeRbund.install-out.txt --library=/Library/Frameworks/R.framework/Versions/Current/Resources/library --no-vignettes --timings cummeRbund_2.34.0.tar.gz StartedAt: 2021-10-14 17:57:48 -0400 (Thu, 14 Oct 2021) EndedAt: 2021-10-14 18:04:34 -0400 (Thu, 14 Oct 2021) EllapsedTime: 406.3 seconds RetCode: 0 Status: WARNINGS CheckDir: cummeRbund.Rcheck Warnings: 1