Package: cummeRbund Version: 2.34.0 Command: /home/biocbuild/bbs-3.13-bioc/R/bin/R CMD build --keep-empty-dirs --no-resave-data cummeRbund StartedAt: 2021-10-14 07:03:35 -0400 (Thu, 14 Oct 2021) EndedAt: 2021-10-14 07:05:06 -0400 (Thu, 14 Oct 2021) EllapsedTime: 90.8 seconds RetCode: 0 Status: OK PackageFile: cummeRbund_2.34.0.tar.gz PackageFileSize: 2.405 MiB