Package: cummeRbund Version: 2.34.0 Command: /home/biocbuild/bbs-3.13-bioc/R/bin/R CMD check --install=check:cummeRbund.install-out.txt --library=/home/biocbuild/bbs-3.13-bioc/R/library --no-vignettes --timings cummeRbund_2.34.0.tar.gz StartedAt: 2021-10-14 09:27:08 -0400 (Thu, 14 Oct 2021) EndedAt: 2021-10-14 09:32:04 -0400 (Thu, 14 Oct 2021) EllapsedTime: 296.0 seconds RetCode: 0 Status: WARNINGS CheckDir: cummeRbund.Rcheck Warnings: 1