Package: cummeRbund Version: 2.34.0 Command: chmod a+r cummeRbund -R && C:\Users\biocbuild\bbs-3.13-bioc\R\bin\R.exe CMD build --keep-empty-dirs --no-resave-data cummeRbund StartedAt: 2021-10-14 13:09:52 -0400 (Thu, 14 Oct 2021) EndedAt: 2021-10-14 13:11:55 -0400 (Thu, 14 Oct 2021) EllapsedTime: 123.3 seconds RetCode: 0 Status: OK PackageFile: cummeRbund_2.34.0.tar.gz PackageFileSize: 2.44 MiB