Package: customCMPdb Version: 1.2.0 Command: rm -rf customCMPdb.buildbin-libdir && mkdir customCMPdb.buildbin-libdir && /Users/biocbuild/BBS/utils/build-universal.sh customCMPdb_1.2.0.tar.gz /Library/Frameworks/R.framework/Versions/Current/Resources/bin/R customCMPdb.buildbin-libdir StartedAt: 2021-10-15 02:06:03 -0400 (Fri, 15 Oct 2021) EndedAt: 2021-10-15 02:07:07 -0400 (Fri, 15 Oct 2021) EllapsedTime: 63.9 seconds RetCode: 0 Status: OK PackageFile: customCMPdb_1.2.0.tgz PackageFileSize: 699 KiB