Package: customCMPdb Version: 1.2.0 Command: /Library/Frameworks/R.framework/Versions/Current/Resources/bin/R CMD INSTALL customCMPdb StartedAt: 2021-10-14 08:55:13 -0400 (Thu, 14 Oct 2021) EndedAt: 2021-10-14 08:56:10 -0400 (Thu, 14 Oct 2021) EllapsedTime: 57.9 seconds RetCode: 0 Status: OK