Package: customCMPdb Version: 1.2.0 Command: /home/biocbuild/bbs-3.13-bioc/R/bin/R CMD build --keep-empty-dirs --no-resave-data customCMPdb StartedAt: 2021-10-14 07:03:36 -0400 (Thu, 14 Oct 2021) EndedAt: 2021-10-14 07:05:39 -0400 (Thu, 14 Oct 2021) EllapsedTime: 123.1 seconds RetCode: 0 Status: OK PackageFile: customCMPdb_1.2.0.tar.gz PackageFileSize: 665.3 KiB