Package: customCMPdb Version: 1.2.0 Command: C:\cygwin\bin\curl.exe -O http://155.52.207.165/BBS/3.13/bioc/src/contrib/customCMPdb_1.2.0.tar.gz && rm -rf customCMPdb.buildbin-libdir && mkdir customCMPdb.buildbin-libdir && C:\Users\biocbuild\bbs-3.13-bioc\R\bin\R.exe CMD INSTALL --merge-multiarch --build --library=customCMPdb.buildbin-libdir customCMPdb_1.2.0.tar.gz && C:\Users\biocbuild\bbs-3.13-bioc\R\bin\R.exe CMD INSTALL customCMPdb_1.2.0.zip && rm customCMPdb_1.2.0.tar.gz customCMPdb_1.2.0.zip StartedAt: 2021-10-14 08:27:22 -0400 (Thu, 14 Oct 2021) EndedAt: 2021-10-14 08:28:26 -0400 (Thu, 14 Oct 2021) EllapsedTime: 64.7 seconds RetCode: 0 Status: OK