Package: customProDB Version: 1.32.0 Command: /Library/Frameworks/R.framework/Versions/Current/Resources/bin/R CMD INSTALL customProDB StartedAt: 2021-10-14 09:56:56 -0400 (Thu, 14 Oct 2021) EndedAt: 2021-10-14 09:57:37 -0400 (Thu, 14 Oct 2021) EllapsedTime: 41.3 seconds RetCode: 0 Status: OK