Package: customProDB Version: 1.32.0 Command: /home/biocbuild/bbs-3.13-bioc/R/bin/R CMD build --keep-empty-dirs --no-resave-data customProDB StartedAt: 2021-10-14 07:03:37 -0400 (Thu, 14 Oct 2021) EndedAt: 2021-10-14 07:06:07 -0400 (Thu, 14 Oct 2021) EllapsedTime: 149.6 seconds RetCode: 0 Status: OK PackageFile: customProDB_1.32.0.tar.gz PackageFileSize: 600 KiB