git_url: https://git.bioconductor.org/packages/cyanoFilter git_branch: RELEASE_3_13 git_last_commit: 3160dc7 git_last_commit_date: 2021-05-19 13:01:40 -0400 (Wed, 19 May 2021) Package: cyanoFilter Version: 1.0.0 Maintainer: Oluwafemi Olusoji MaintainerEmail: oluwafemi.olusoji at uhasselt.be