Package: cytofast Version: 1.8.0 Command: /Library/Frameworks/R.framework/Versions/Current/Resources/bin/R CMD check --install=check:cytofast.install-out.txt --library=/Library/Frameworks/R.framework/Versions/Current/Resources/library --no-vignettes --timings cytofast_1.8.0.tar.gz StartedAt: 2021-10-14 18:00:17 -0400 (Thu, 14 Oct 2021) EndedAt: 2021-10-14 18:02:39 -0400 (Thu, 14 Oct 2021) EllapsedTime: 141.8 seconds RetCode: 1 Status: ERROR CheckDir: cytofast.Rcheck Warnings: NA