Package: cytofast Version: 1.8.0 Command: /Library/Frameworks/R.framework/Versions/Current/Resources/bin/R CMD INSTALL cytofast StartedAt: 2021-10-14 10:27:19 -0400 (Thu, 14 Oct 2021) EndedAt: 2021-10-14 10:27:45 -0400 (Thu, 14 Oct 2021) EllapsedTime: 26.3 seconds RetCode: 0 Status: OK