Package: cytofast Version: 1.8.0 Command: C:\Users\biocbuild\bbs-3.13-bioc\R\bin\R.exe CMD check --force-multiarch --install=check:cytofast.install-out.txt --library=C:\Users\biocbuild\bbs-3.13-bioc\R\library --no-vignettes --timings cytofast_1.8.0.tar.gz StartedAt: 2021-10-14 21:50:04 -0400 (Thu, 14 Oct 2021) EndedAt: 2021-10-14 21:52:58 -0400 (Thu, 14 Oct 2021) EllapsedTime: 174.2 seconds RetCode: 1 Status: ERROR CheckDir: cytofast.Rcheck Warnings: NA