Package: cytomapper Version: 1.4.1 Command: /Library/Frameworks/R.framework/Versions/Current/Resources/bin/R CMD INSTALL cytomapper StartedAt: 2021-10-14 09:35:02 -0400 (Thu, 14 Oct 2021) EndedAt: 2021-10-14 09:35:54 -0400 (Thu, 14 Oct 2021) EllapsedTime: 52.6 seconds RetCode: 0 Status: OK