Package: cytomapper Version: 1.4.1 Command: chmod a+r cytomapper -R && C:\Users\biocbuild\bbs-3.13-bioc\R\bin\R.exe CMD build --keep-empty-dirs --no-resave-data cytomapper StartedAt: 2021-10-14 13:11:29 -0400 (Thu, 14 Oct 2021) EndedAt: 2021-10-14 13:13:35 -0400 (Thu, 14 Oct 2021) EllapsedTime: 126.0 seconds RetCode: 0 Status: OK PackageFile: cytomapper_1.4.1.tar.gz PackageFileSize: 20.7 MiB