Package: daMA Version: 1.64.0 Command: rm -rf daMA.buildbin-libdir && mkdir daMA.buildbin-libdir && /Users/biocbuild/BBS/utils/build-universal.sh daMA_1.64.0.tar.gz /Library/Frameworks/R.framework/Versions/Current/Resources/bin/R daMA.buildbin-libdir StartedAt: 2021-10-15 02:07:18 -0400 (Fri, 15 Oct 2021) EndedAt: 2021-10-15 02:08:06 -0400 (Fri, 15 Oct 2021) EllapsedTime: 48.1 seconds RetCode: 0 Status: OK PackageFile: daMA_1.64.0.tgz PackageFileSize: 4.058 MiB