Package: daMA Version: 1.64.0 Command: /Library/Frameworks/R.framework/Versions/Current/Resources/bin/R CMD INSTALL daMA StartedAt: 2021-10-14 08:12:03 -0400 (Thu, 14 Oct 2021) EndedAt: 2021-10-14 08:12:49 -0400 (Thu, 14 Oct 2021) EllapsedTime: 45.7 seconds RetCode: 0 Status: OK