Package: daMA Version: 1.64.0 Command: /home/biocbuild/bbs-3.13-bioc/R/bin/R CMD check --install=check:daMA.install-out.txt --library=/home/biocbuild/bbs-3.13-bioc/R/library --no-vignettes --timings daMA_1.64.0.tar.gz StartedAt: 2021-10-14 09:28:24 -0400 (Thu, 14 Oct 2021) EndedAt: 2021-10-14 09:28:44 -0400 (Thu, 14 Oct 2021) EllapsedTime: 19.5 seconds RetCode: 0 Status: OK CheckDir: daMA.Rcheck Warnings: 0