Package: daMA Version: 1.64.0 Command: rm -rf daMA.buildbin-libdir && mkdir daMA.buildbin-libdir && C:\Users\biocbuild\bbs-3.13-bioc\R\bin\R.exe CMD INSTALL --merge-multiarch --build --library=daMA.buildbin-libdir daMA_1.64.0.tar.gz StartedAt: 2021-10-15 08:51:05 -0400 (Fri, 15 Oct 2021) EndedAt: 2021-10-15 08:51:47 -0400 (Fri, 15 Oct 2021) EllapsedTime: 42.4 seconds RetCode: 0 Status: OK PackageFile: daMA_1.64.0.zip PackageFileSize: 4.077 MiB