Package: daMA Version: 1.64.0 Command: chmod a+r daMA -R && C:\Users\biocbuild\bbs-3.13-bioc\R\bin\R.exe CMD build --keep-empty-dirs --no-resave-data daMA StartedAt: 2021-10-14 13:13:09 -0400 (Thu, 14 Oct 2021) EndedAt: 2021-10-14 13:13:11 -0400 (Thu, 14 Oct 2021) EllapsedTime: 2.5 seconds RetCode: 0 Status: OK PackageFile: daMA_1.64.0.tar.gz PackageFileSize: 4.026 MiB