Package: daMA Version: 1.64.0 Command: C:\Users\biocbuild\bbs-3.13-bioc\R\bin\R.exe CMD check --force-multiarch --install=check:daMA.install-out.txt --library=C:\Users\biocbuild\bbs-3.13-bioc\R\library --no-vignettes --timings daMA_1.64.0.tar.gz StartedAt: 2021-10-14 21:53:20 -0400 (Thu, 14 Oct 2021) EndedAt: 2021-10-14 21:54:09 -0400 (Thu, 14 Oct 2021) EllapsedTime: 48.8 seconds RetCode: 0 Status: OK CheckDir: daMA.Rcheck Warnings: 0