Package: dagLogo Version: 1.30.0 Command: /Library/Frameworks/R.framework/Versions/Current/Resources/bin/R CMD INSTALL dagLogo StartedAt: 2021-10-14 08:56:23 -0400 (Thu, 14 Oct 2021) EndedAt: 2021-10-14 08:57:16 -0400 (Thu, 14 Oct 2021) EllapsedTime: 53.0 seconds RetCode: 0 Status: OK