Package: dagLogo Version: 1.30.0 Command: /home/biocbuild/bbs-3.13-bioc/R/bin/R CMD INSTALL dagLogo StartedAt: 2021-10-14 06:09:37 -0400 (Thu, 14 Oct 2021) EndedAt: 2021-10-14 06:09:51 -0400 (Thu, 14 Oct 2021) EllapsedTime: 14.9 seconds RetCode: 0 Status: OK