Package: dagLogo Version: 1.30.0 Command: chmod a+r dagLogo -R && C:\Users\biocbuild\bbs-3.13-bioc\R\bin\R.exe CMD build --keep-empty-dirs --no-resave-data dagLogo StartedAt: 2021-10-14 13:12:28 -0400 (Thu, 14 Oct 2021) EndedAt: 2021-10-14 13:13:51 -0400 (Thu, 14 Oct 2021) EllapsedTime: 83.2 seconds RetCode: 0 Status: OK PackageFile: dagLogo_1.30.0.tar.gz PackageFileSize: 2.461 MiB