Package: dasper Version: 1.2.0 Command: rm -rf dasper.buildbin-libdir && mkdir dasper.buildbin-libdir && C:\Users\biocbuild\bbs-3.13-bioc\R\bin\R.exe --arch x64 CMD INSTALL --no-multiarch --build --library=dasper.buildbin-libdir dasper_1.2.0.tar.gz StartedAt: 2021-10-15 08:51:47 -0400 (Fri, 15 Oct 2021) EndedAt: 2021-10-15 08:52:39 -0400 (Fri, 15 Oct 2021) EllapsedTime: 51.9 seconds RetCode: 0 Status: OK PackageFile: dasper_1.2.0.zip PackageFileSize: 1.559 MiB