Package: dce Version: 1.0.0 Command: chmod a+r dce -R && C:\Users\biocbuild\bbs-3.13-bioc\R\bin\R.exe CMD build --keep-empty-dirs --no-resave-data dce StartedAt: 2021-10-14 13:15:18 -0400 (Thu, 14 Oct 2021) EndedAt: 2021-10-14 13:18:21 -0400 (Thu, 14 Oct 2021) EllapsedTime: 182.3 seconds RetCode: 0 Status: OK PackageFile: dce_1.0.0.tar.gz PackageFileSize: 1.16 MiB