Package: deepSNV Version: 1.38.0 Command: C:\cygwin\bin\curl.exe -O http://155.52.207.165/BBS/3.13/bioc/src/contrib/deepSNV_1.38.0.tar.gz && rm -rf deepSNV.buildbin-libdir && mkdir deepSNV.buildbin-libdir && C:\Users\biocbuild\bbs-3.13-bioc\R\bin\R.exe CMD INSTALL --merge-multiarch --build --library=deepSNV.buildbin-libdir deepSNV_1.38.0.tar.gz && C:\Users\biocbuild\bbs-3.13-bioc\R\bin\R.exe CMD INSTALL deepSNV_1.38.0.zip && rm deepSNV_1.38.0.tar.gz deepSNV_1.38.0.zip StartedAt: 2021-10-14 10:23:38 -0400 (Thu, 14 Oct 2021) EndedAt: 2021-10-14 10:28:21 -0400 (Thu, 14 Oct 2021) EllapsedTime: 283.5 seconds RetCode: 0 Status: OK