Package: deltaCaptureC Version: 1.6.0 Command: rm -rf deltaCaptureC.buildbin-libdir && mkdir deltaCaptureC.buildbin-libdir && /Users/biocbuild/BBS/utils/build-universal.sh deltaCaptureC_1.6.0.tar.gz /Library/Frameworks/R.framework/Versions/Current/Resources/bin/R deltaCaptureC.buildbin-libdir StartedAt: 2021-10-15 02:10:12 -0400 (Fri, 15 Oct 2021) EndedAt: 2021-10-15 02:11:21 -0400 (Fri, 15 Oct 2021) EllapsedTime: 69.4 seconds RetCode: 0 Status: OK PackageFile: deltaCaptureC_1.6.0.tgz PackageFileSize: 655 KiB