Package: deltaCaptureC Version: 1.6.0 Command: /Library/Frameworks/R.framework/Versions/Current/Resources/bin/R CMD build --keep-empty-dirs --no-resave-data deltaCaptureC StartedAt: 2021-10-14 11:38:21 -0400 (Thu, 14 Oct 2021) EndedAt: 2021-10-14 11:41:56 -0400 (Thu, 14 Oct 2021) EllapsedTime: 215.2 seconds RetCode: 0 Status: OK PackageFile: deltaCaptureC_1.6.0.tar.gz PackageFileSize: 424.9 KiB