Package: deltaCaptureC Version: 1.6.0 Command: /home/biocbuild/bbs-3.13-bioc/R/bin/R CMD check --install=check:deltaCaptureC.install-out.txt --library=/home/biocbuild/bbs-3.13-bioc/R/library --no-vignettes --timings deltaCaptureC_1.6.0.tar.gz StartedAt: 2021-10-14 09:32:32 -0400 (Thu, 14 Oct 2021) EndedAt: 2021-10-14 09:37:36 -0400 (Thu, 14 Oct 2021) EllapsedTime: 304.4 seconds RetCode: 0 Status: OK CheckDir: deltaCaptureC.Rcheck Warnings: 0