Package: diffHic Version: 1.24.1 Command: rm -rf diffHic.buildbin-libdir && mkdir diffHic.buildbin-libdir && /Users/biocbuild/BBS/utils/build-universal.sh diffHic_1.24.1.tar.gz /Library/Frameworks/R.framework/Versions/Current/Resources/bin/R diffHic.buildbin-libdir StartedAt: 2021-10-15 02:12:20 -0400 (Fri, 15 Oct 2021) EndedAt: 2021-10-15 02:14:25 -0400 (Fri, 15 Oct 2021) EllapsedTime: 124.8 seconds RetCode: 0 Status: OK PackageFile: diffHic_1.24.1.tgz PackageFileSize: 2.277 MiB