Package: diffcoexp Version: 1.12.0 Command: C:\cygwin\bin\curl.exe -O http://155.52.207.165/BBS/3.13/bioc/src/contrib/diffcoexp_1.12.0.tar.gz && rm -rf diffcoexp.buildbin-libdir && mkdir diffcoexp.buildbin-libdir && C:\Users\biocbuild\bbs-3.13-bioc\R\bin\R.exe CMD INSTALL --merge-multiarch --build --library=diffcoexp.buildbin-libdir diffcoexp_1.12.0.tar.gz && C:\Users\biocbuild\bbs-3.13-bioc\R\bin\R.exe CMD INSTALL diffcoexp_1.12.0.zip && rm diffcoexp_1.12.0.tar.gz diffcoexp_1.12.0.zip StartedAt: 2021-10-14 09:11:36 -0400 (Thu, 14 Oct 2021) EndedAt: 2021-10-14 09:12:26 -0400 (Thu, 14 Oct 2021) EllapsedTime: 49.8 seconds RetCode: 0 Status: OK