git_url: https://git.bioconductor.org/packages/diffloop git_branch: RELEASE_3_13 git_last_commit: 900a5e1 git_last_commit_date: 2021-05-19 12:20:17 -0400 (Wed, 19 May 2021) Package: diffloop Version: 1.20.0 Maintainer: Caleb Lareau MaintainerEmail: caleblareau at g.harvard.edu