Package: diffloop Version: 1.20.0 Command: rm -rf diffloop.buildbin-libdir && mkdir diffloop.buildbin-libdir && /Users/biocbuild/BBS/utils/build-universal.sh diffloop_1.20.0.tar.gz /Library/Frameworks/R.framework/Versions/Current/Resources/bin/R diffloop.buildbin-libdir StartedAt: 2021-10-15 02:12:31 -0400 (Fri, 15 Oct 2021) EndedAt: 2021-10-15 02:13:26 -0400 (Fri, 15 Oct 2021) EllapsedTime: 54.7 seconds RetCode: 0 Status: OK PackageFile: diffloop_1.20.0.tgz PackageFileSize: 1.507 MiB