Package: diffloop Version: 1.20.0 Command: /home/biocbuild/bbs-3.13-bioc/R/bin/R CMD check --install=check:diffloop.install-out.txt --library=/home/biocbuild/bbs-3.13-bioc/R/library --no-vignettes --timings diffloop_1.20.0.tar.gz StartedAt: 2021-10-14 09:35:29 -0400 (Thu, 14 Oct 2021) EndedAt: 2021-10-14 09:39:25 -0400 (Thu, 14 Oct 2021) EllapsedTime: 236.1 seconds RetCode: 0 Status: OK CheckDir: diffloop.Rcheck Warnings: 0